BEGIN:VCALENDAR
VERSION:2.0
PRODID:-//Acadiana Workforce Solutions - ECPv6.0.12//NONSGML v1.0//EN
CALSCALE:GREGORIAN
METHOD:PUBLISH
X-WR-CALNAME:Acadiana Workforce Solutions
X-ORIGINAL-URL:https://acadianaworkforce.org
X-WR-CALDESC:Events for Acadiana Workforce Solutions
REFRESH-INTERVAL;VALUE=DURATION:PT1H
X-Robots-Tag:noindex
X-PUBLISHED-TTL:PT1H
BEGIN:VTIMEZONE
TZID:UTC
BEGIN:STANDARD
TZOFFSETFROM:+0000
TZOFFSETTO:+0000
TZNAME:UTC
DTSTART:20210101T000000
END:STANDARD
END:VTIMEZONE
BEGIN:VEVENT
DTSTART;TZID=UTC:20210505T120000
DTEND;TZID=UTC:20210505T180000
DTSTAMP:20260420T101114
CREATED:20210429T144202Z
LAST-MODIFIED:20210429T144202Z
UID:8475-1620216000-1620237600@acadianaworkforce.org
SUMMARY:PCMS (Professional Cleaning & Maintenance Service) Job Fair
DESCRIPTION:Find job opportunities in the field of Human Resources Specialist\, Manager in Training\, Quality Control Manager\, Housekeeper\, Floor Techs\, New Horizon Coach\, Carpet Technicians.
URL:https://acadianaworkforce.org/event/pcms-professional-cleaning-maintenance-service-job-fair/
LOCATION:Lafayette Public Library Downtown\, 301 W. Congress St.\, Lafayette\, LA\, 70501\, United States
CATEGORIES:Job Fair
END:VEVENT
END:VCALENDAR