BEGIN:VCALENDAR
VERSION:2.0
PRODID:-//Acadiana Workforce Solutions - ECPv6.0.12//NONSGML v1.0//EN
CALSCALE:GREGORIAN
METHOD:PUBLISH
X-WR-CALNAME:Acadiana Workforce Solutions
X-ORIGINAL-URL:https://acadianaworkforce.org
X-WR-CALDESC:Events for Acadiana Workforce Solutions
REFRESH-INTERVAL;VALUE=DURATION:PT1H
X-Robots-Tag:noindex
X-PUBLISHED-TTL:PT1H
BEGIN:VTIMEZONE
TZID:UTC
BEGIN:STANDARD
TZOFFSETFROM:+0000
TZOFFSETTO:+0000
TZNAME:UTC
DTSTART:20210101T000000
END:STANDARD
END:VTIMEZONE
BEGIN:VEVENT
DTSTART;TZID=UTC:20210528T080000
DTEND;TZID=UTC:20210528T170000
DTSTAMP:20260420T101114
CREATED:20210504T191540Z
LAST-MODIFIED:20210513T134114Z
UID:8498-1622188800-1622221200@acadianaworkforce.org
SUMMARY:Workforce Week - IT Virtual Fair
DESCRIPTION:A weeklong series of Virtual Job Fairs featuring employers from targeted industries across the state. \n 
URL:https://acadianaworkforce.org/event/workforce-week-it-virtual-fair/
LOCATION:Online
CATEGORIES:Job Fair
ATTACH;FMTTYPE=image/jpeg:https://acadianaworkforce.org/wp-content/uploads/2021/05/Workforce-Week-Job-Seeker-Flyer-.jpg
END:VEVENT
END:VCALENDAR