BEGIN:VCALENDAR
VERSION:2.0
PRODID:-//Acadiana Workforce Solutions - ECPv6.0.12//NONSGML v1.0//EN
CALSCALE:GREGORIAN
METHOD:PUBLISH
X-ORIGINAL-URL:https://acadianaworkforce.org
X-WR-CALDESC:Events for Acadiana Workforce Solutions
REFRESH-INTERVAL;VALUE=DURATION:PT1H
X-Robots-Tag:noindex
X-PUBLISHED-TTL:PT1H
BEGIN:VTIMEZONE
TZID:UTC
BEGIN:STANDARD
TZOFFSETFROM:+0000
TZOFFSETTO:+0000
TZNAME:UTC
DTSTART:20230101T000000
END:STANDARD
END:VTIMEZONE
BEGIN:VEVENT
DTSTART;TZID=UTC:20230327T090000
DTEND;TZID=UTC:20230327T120000
DTSTAMP:20260422T101756
CREATED:20230327T134304Z
LAST-MODIFIED:20230327T134359Z
UID:10996-1679907600-1679918400@acadianaworkforce.org
SUMMARY:SLCC Transfer Fair - Opelousas Campus
DESCRIPTION:Free event for students alumni and the community to be held at: South Louisiana Community College (TH Harris Campus) 332 East South Street\, Opelousas\, LA 70570.
URL:https://acadianaworkforce.org/event/slcc-transfer-fair-opelousas-campus/
CATEGORIES:Job Fair
END:VEVENT
END:VCALENDAR