BEGIN:VCALENDAR
VERSION:2.0
PRODID:-//Acadiana Workforce Solutions - ECPv6.0.12//NONSGML v1.0//EN
CALSCALE:GREGORIAN
METHOD:PUBLISH
X-WR-CALNAME:Acadiana Workforce Solutions
X-ORIGINAL-URL:https://acadianaworkforce.org
X-WR-CALDESC:Events for Acadiana Workforce Solutions
REFRESH-INTERVAL;VALUE=DURATION:PT1H
X-Robots-Tag:noindex
X-PUBLISHED-TTL:PT1H
BEGIN:VTIMEZONE
TZID:UTC
BEGIN:STANDARD
TZOFFSETFROM:+0000
TZOFFSETTO:+0000
TZNAME:UTC
DTSTART:20230101T000000
END:STANDARD
END:VTIMEZONE
BEGIN:VEVENT
DTSTART;TZID=UTC:20231017T090000
DTEND;TZID=UTC:20231017T120000
DTSTAMP:20260419T141743
CREATED:20230809T163937Z
LAST-MODIFIED:20230927T193549Z
UID:11228-1697533200-1697544000@acadianaworkforce.org
SUMMARY:Acadiana Diversity Job Fair
DESCRIPTION:The Acadiana Diversity Job Fair will be held on Tuesday\, October 17\, 9:00am to 12noon at the Heymann Convention Center\, 1373 S. College Road\, Lafayette\, LA. This event is free and open to the public. Click the following link for more information: Lafayette Economic Development Authority (LEDA)
URL:https://acadianaworkforce.org/event/acadiana-diversity-job-fair-4/
CATEGORIES:Job Fair
END:VEVENT
BEGIN:VEVENT
DTSTART;TZID=UTC:20231017T150000
DTEND;TZID=UTC:20231017T180000
DTSTAMP:20260419T141743
CREATED:20230821T144624Z
LAST-MODIFIED:20230821T145008Z
UID:11238-1697554800-1697565600@acadianaworkforce.org
SUMMARY:Allied Health Career Fair hosted by Remington College
DESCRIPTION:Jobs recruiting for include medical assistant\, pharmacy technician\, phlebotomy and medical office administration. The Career Fair will take place on Tuesday\, October 17 from 3pm to 6pm at Remington College Lafayette Campus\, 4021 – A Ambassador Caffery Pkwy\, Lafayette\, LA. \nBusinesses RSVP via email to: dana.philips@remintoncollege.edu or call: 337-408-0108
URL:https://acadianaworkforce.org/event/allied-health-career-fair-hosted-by-remington-college/
CATEGORIES:Job Fair
END:VEVENT
END:VCALENDAR