BEGIN:VCALENDAR
VERSION:2.0
PRODID:-//Acadiana Workforce Solutions - ECPv6.0.12//NONSGML v1.0//EN
CALSCALE:GREGORIAN
METHOD:PUBLISH
X-WR-CALNAME:Acadiana Workforce Solutions
X-ORIGINAL-URL:https://acadianaworkforce.org
X-WR-CALDESC:Events for Acadiana Workforce Solutions
REFRESH-INTERVAL;VALUE=DURATION:PT1H
X-Robots-Tag:noindex
X-PUBLISHED-TTL:PT1H
BEGIN:VTIMEZONE
TZID:UTC
BEGIN:STANDARD
TZOFFSETFROM:+0000
TZOFFSETTO:+0000
TZNAME:UTC
DTSTART:20230101T000000
END:STANDARD
END:VTIMEZONE
BEGIN:VEVENT
DTSTART;TZID=UTC:20231024T090000
DTEND;TZID=UTC:20231024T130000
DTSTAMP:20260421T105636
CREATED:20231016T174540Z
LAST-MODIFIED:20231016T174950Z
UID:11356-1698138000-1698152400@acadianaworkforce.org
SUMMARY:Acadiana Workforce Solutions Career Fair
DESCRIPTION:Tuesday\, October 24 from 9am to 1pm at the Opelousas Career Center\, 1065 Hwy 749 in Opelousas a Career Fair will be held from 9am to 1pm. Bring your resume to connect in-person with Professionals. Employers from local companies will be recruiting for Full and Part-time positions. \nFor more information contact Kimberly Hunter at Kimberly.Hunter@solacc.edu or 337-948-1330 Ext. 5202
URL:https://acadianaworkforce.org/event/acadiana-workforce-solutions-career-fair/
CATEGORIES:Job Fair
END:VEVENT
END:VCALENDAR