BEGIN:VCALENDAR
VERSION:2.0
PRODID:-//Acadiana Workforce Solutions - ECPv6.0.12//NONSGML v1.0//EN
CALSCALE:GREGORIAN
METHOD:PUBLISH
X-ORIGINAL-URL:https://acadianaworkforce.org
X-WR-CALDESC:Events for Acadiana Workforce Solutions
REFRESH-INTERVAL;VALUE=DURATION:PT1H
X-Robots-Tag:noindex
X-PUBLISHED-TTL:PT1H
BEGIN:VTIMEZONE
TZID:UTC
BEGIN:STANDARD
TZOFFSETFROM:+0000
TZOFFSETTO:+0000
TZNAME:UTC
DTSTART:20240101T000000
END:STANDARD
END:VTIMEZONE
BEGIN:VEVENT
DTSTART;TZID=UTC:20241001T110000
DTEND;TZID=UTC:20241001T150000
DTSTAMP:20260421T083019
CREATED:20240826T202529Z
LAST-MODIFIED:20240826T202657Z
UID:11987-1727780400-1727794800@acadianaworkforce.org
SUMMARY:UL Lafayette Career Fair (For ULL Students & Alumni)
DESCRIPTION:Tuesday\, October 1\, 11am to 3pm\, UL Lafayette is hosting a career fair for students and alumni at the Cajundome Conventions Center (444 Cajundome Blvd\, Lafayette\, LA). \nFor more information or to register visit: Sign In | Handshake (joinhandshake.com) \n 
URL:https://acadianaworkforce.org/event/ul-lafayette-career-fair-for-ull-students-alumni/
CATEGORIES:Job Fair
END:VEVENT
END:VCALENDAR