BEGIN:VCALENDAR
VERSION:2.0
PRODID:-//Acadiana Workforce Solutions - ECPv6.0.12//NONSGML v1.0//EN
CALSCALE:GREGORIAN
METHOD:PUBLISH
X-ORIGINAL-URL:https://acadianaworkforce.org
X-WR-CALDESC:Events for Acadiana Workforce Solutions
REFRESH-INTERVAL;VALUE=DURATION:PT1H
X-Robots-Tag:noindex
X-PUBLISHED-TTL:PT1H
BEGIN:VTIMEZONE
TZID:UTC
BEGIN:STANDARD
TZOFFSETFROM:+0000
TZOFFSETTO:+0000
TZNAME:UTC
DTSTART:20240101T000000
END:STANDARD
END:VTIMEZONE
BEGIN:VEVENT
DTSTART;TZID=UTC:20241022T093000
DTEND;TZID=UTC:20241022T150000
DTSTAMP:20260419T131832
CREATED:20241022T135818Z
LAST-MODIFIED:20241022T140340Z
UID:12241-1729589400-1729609200@acadianaworkforce.org
SUMMARY:Manpower Job Fair
DESCRIPTION:Jobseekers\, a job fair is being held Tuesday\, October 22 from 9:30am to 3pm in New Iberia on SoLAcc Campus (908 Ember Drive\, New Iberia\, LA 70560). Bring your resume\, warehouse workers are needed. $15-20+ depending on experience. \n 
URL:https://acadianaworkforce.org/event/manpower-job-fair/
CATEGORIES:Job Fair
END:VEVENT
END:VCALENDAR