BEGIN:VCALENDAR
VERSION:2.0
PRODID:-//Acadiana Workforce Solutions - ECPv6.0.12//NONSGML v1.0//EN
CALSCALE:GREGORIAN
METHOD:PUBLISH
X-ORIGINAL-URL:https://acadianaworkforce.org
X-WR-CALDESC:Events for Acadiana Workforce Solutions
REFRESH-INTERVAL;VALUE=DURATION:PT1H
X-Robots-Tag:noindex
X-PUBLISHED-TTL:PT1H
BEGIN:VTIMEZONE
TZID:UTC
BEGIN:STANDARD
TZOFFSETFROM:+0000
TZOFFSETTO:+0000
TZNAME:UTC
DTSTART:20240101T000000
END:STANDARD
END:VTIMEZONE
BEGIN:VEVENT
DTSTART;TZID=UTC:20241218T110000
DTEND;TZID=UTC:20241218T140000
DTSTAMP:20260425T142206
CREATED:20241210T172236Z
LAST-MODIFIED:20241210T173203Z
UID:12394-1734519600-1734530400@acadianaworkforce.org
SUMMARY:Business\, Technology\, Engineering Career Fair - LED Fast Start (online)
DESCRIPTION:LED Fast Start is hosting an online career fair on Wednesday\, December 18 from 11am to 2pm. \nCompanies participating include: Birdon in Elmwood\, CGI in Lafayette\, LHC Group in Lafayette and Premier Health in Baton Rouge. Applications are being accepted for positions in Business\, Technology and Engineering.
URL:https://acadianaworkforce.org/event/business-technology-engineering-career-fair-led-fast-start-online/
LOCATION:Online
CATEGORIES:Job Fair
END:VEVENT
END:VCALENDAR