BEGIN:VCALENDAR
VERSION:2.0
PRODID:-//Acadiana Workforce Solutions - ECPv6.0.12//NONSGML v1.0//EN
CALSCALE:GREGORIAN
METHOD:PUBLISH
X-ORIGINAL-URL:https://acadianaworkforce.org
X-WR-CALDESC:Events for Acadiana Workforce Solutions
REFRESH-INTERVAL;VALUE=DURATION:PT1H
X-Robots-Tag:noindex
X-PUBLISHED-TTL:PT1H
BEGIN:VTIMEZONE
TZID:UTC
BEGIN:STANDARD
TZOFFSETFROM:+0000
TZOFFSETTO:+0000
TZNAME:UTC
DTSTART:20250101T000000
END:STANDARD
END:VTIMEZONE
BEGIN:VEVENT
DTSTART;TZID=UTC:20250429T093000
DTEND;TZID=UTC:20250429T130000
DTSTAMP:20260419T141012
CREATED:20250417T185643Z
LAST-MODIFIED:20250417T185812Z
UID:12739-1745919000-1745931600@acadianaworkforce.org
SUMMARY:Country Road Inclusion - Vermilion Parish Career Academy
DESCRIPTION:2 sessions: \n9:35am \n11:55am
URL:https://acadianaworkforce.org/event/country-road-inclusion-vermilion-parish-career-academy/
END:VEVENT
END:VCALENDAR