BEGIN:VCALENDAR
VERSION:2.0
PRODID:-//Acadiana Workforce Solutions - ECPv6.0.12//NONSGML v1.0//EN
CALSCALE:GREGORIAN
METHOD:PUBLISH
X-ORIGINAL-URL:https://acadianaworkforce.org
X-WR-CALDESC:Events for Acadiana Workforce Solutions
REFRESH-INTERVAL;VALUE=DURATION:PT1H
X-Robots-Tag:noindex
X-PUBLISHED-TTL:PT1H
BEGIN:VTIMEZONE
TZID:UTC
BEGIN:STANDARD
TZOFFSETFROM:+0000
TZOFFSETTO:+0000
TZNAME:UTC
DTSTART:20250101T000000
END:STANDARD
END:VTIMEZONE
BEGIN:VEVENT
DTSTART;TZID=UTC:20250430T150000
DTEND;TZID=UTC:20250430T180000
DTSTAMP:20260421T082954
CREATED:20250425T132714Z
LAST-MODIFIED:20250425T133857Z
UID:12748-1746025200-1746036000@acadianaworkforce.org
SUMMARY:St. Martin Parish School District
DESCRIPTION:St. Martin Parish School District is hosting a Job Fair on Wednesday\, April 30\, 2025 from 3pm-6pm at the Federal Programs Building\, 625 Corporate Blvd.\, Breaux Bridge\, LA 70517. On site interviews will be held. Please submit your application prior to the fair to expedite the interview process. Jobs are posted here: https://www.saintmartinschools.org/employment-opportunities \nAll schools & transportation will be represented. Information on obtaining a CDL will be provided. \n  \n 
URL:https://acadianaworkforce.org/event/st-martin-parish-school-district/
CATEGORIES:Job Fair
END:VEVENT
END:VCALENDAR