BEGIN:VCALENDAR
VERSION:2.0
PRODID:-//Acadiana Workforce Solutions - ECPv6.0.12//NONSGML v1.0//EN
CALSCALE:GREGORIAN
METHOD:PUBLISH
X-WR-CALNAME:Acadiana Workforce Solutions
X-ORIGINAL-URL:https://acadianaworkforce.org
X-WR-CALDESC:Events for Acadiana Workforce Solutions
REFRESH-INTERVAL;VALUE=DURATION:PT1H
X-Robots-Tag:noindex
X-PUBLISHED-TTL:PT1H
BEGIN:VTIMEZONE
TZID:UTC
BEGIN:STANDARD
TZOFFSETFROM:+0000
TZOFFSETTO:+0000
TZNAME:UTC
DTSTART:20230101T000000
END:STANDARD
END:VTIMEZONE
BEGIN:VEVENT
DTSTART;TZID=UTC:20241028T140000
DTEND;TZID=UTC:20241028T150000
DTSTAMP:20260422T014536
CREATED:20241015T182906Z
LAST-MODIFIED:20241015T183906Z
UID:12238-1730124000-1730127600@acadianaworkforce.org
SUMMARY:Business Services Committee Meeting
DESCRIPTION:On Monday\, October 28 at 2pm the Business Services Committee for Acadiana Workforce Solutions Area #40 will hold a meeting at Lafayette American Job Center\, 706 E Vermilion Street\, Lafayette\, LA 70501. \nFor more information contact Rita Patterson at rpatterson@wib40.org. \n 
URL:https://acadianaworkforce.org/event/business-services-committee-meeting/
CATEGORIES:Business Committee Meeting
END:VEVENT
BEGIN:VEVENT
DTSTART;TZID=UTC:20230418T090000
DTEND;TZID=UTC:20230418T103000
DTSTAMP:20260422T014536
CREATED:20230328T190958Z
LAST-MODIFIED:20230328T190958Z
UID:11005-1681808400-1681813800@acadianaworkforce.org
SUMMARY:Business Committee Meeting
DESCRIPTION:Acadiana Workforce Solutions Board #40 will have a Business Committee Meeting on Tuesday\, April 18 from 9am – 10:30am at One Acadiana\, 804 E St. Mary Blvd\, Lafayette\, LA 70503. For more information contact Rita Patterson at: rpatterson@wib40.org.
URL:https://acadianaworkforce.org/event/business-committee-meeting-2/
CATEGORIES:Business Committee Meeting
END:VEVENT
BEGIN:VEVENT
DTSTART;TZID=UTC:20230314T133000
DTEND;TZID=UTC:20230314T143000
DTSTAMP:20260422T014536
CREATED:20230307T192417Z
LAST-MODIFIED:20230307T192417Z
UID:10960-1678800600-1678804200@acadianaworkforce.org
SUMMARY:Business Committee Meeting
DESCRIPTION:Acadiana Workforce Solutions Board #40 will have a Business Committee Meeting on Tuesday\, M\arch 14 at One Acadiana\, 804 E St. Mary Blvd\, Lafayette\, LA 70503\, at 1:30pm.
URL:https://acadianaworkforce.org/event/business-committee-meeting/
CATEGORIES:Business Committee Meeting
END:VEVENT
END:VCALENDAR