BEGIN:VCALENDAR
VERSION:2.0
PRODID:-//Acadiana Workforce Solutions - ECPv6.0.12//NONSGML v1.0//EN
CALSCALE:GREGORIAN
METHOD:PUBLISH
X-ORIGINAL-URL:https://acadianaworkforce.org
X-WR-CALDESC:Events for Acadiana Workforce Solutions
REFRESH-INTERVAL;VALUE=DURATION:PT1H
X-Robots-Tag:noindex
X-PUBLISHED-TTL:PT1H
BEGIN:VTIMEZONE
TZID:UTC
BEGIN:STANDARD
TZOFFSETFROM:+0000
TZOFFSETTO:+0000
TZNAME:UTC
DTSTART:20200101T000000
END:STANDARD
END:VTIMEZONE
BEGIN:VEVENT
DTSTART;TZID=UTC:20200604T140000
DTEND;TZID=UTC:20200604T150000
DTSTAMP:20260421T062833
CREATED:20200602T155016Z
LAST-MODIFIED:20200602T155055Z
UID:7877-1591279200-1591282800@acadianaworkforce.org
SUMMARY:Joint Sub-Committee
DESCRIPTION:There will be a Joint Sub-Committee Meeting held at 2 pm\, June 4\, 2020\, via teleconference. Please RSVP to aauzenne@wib40.org for call-in information.
URL:https://acadianaworkforce.org/event/joint-sub-committee/
CATEGORIES:Joint Sub-Committee Meeting
END:VEVENT
END:VCALENDAR