BEGIN:VCALENDAR
VERSION:2.0
PRODID:-//Acadiana Workforce Solutions - ECPv6.0.12//NONSGML v1.0//EN
CALSCALE:GREGORIAN
METHOD:PUBLISH
X-WR-CALNAME:Acadiana Workforce Solutions
X-ORIGINAL-URL:https://acadianaworkforce.org
X-WR-CALDESC:Events for Acadiana Workforce Solutions
REFRESH-INTERVAL;VALUE=DURATION:PT1H
X-Robots-Tag:noindex
X-PUBLISHED-TTL:PT1H
BEGIN:VTIMEZONE
TZID:UTC
BEGIN:STANDARD
TZOFFSETFROM:+0000
TZOFFSETTO:+0000
TZNAME:UTC
DTSTART:20250101T000000
END:STANDARD
END:VTIMEZONE
BEGIN:VEVENT
DTSTART;TZID=UTC:20250912T083000
DTEND;TZID=UTC:20250912T123000
DTSTAMP:20260422T074629
CREATED:20250908T152246Z
LAST-MODIFIED:20250908T152352Z
UID:12940-1757665800-1757680200@acadianaworkforce.org
SUMMARY:UL Lafayette Nursing & Health Sciences Care Fair
DESCRIPTION:When:  Friday\, September 12\, 8:30am to 12:30pm \nWhere: UL Lafayette Student Union Ballroom
URL:https://acadianaworkforce.org/event/ul-lafayette-nursing-health-sciences-care-fair/
CATEGORIES:Job Fair
END:VEVENT
END:VCALENDAR