BEGIN:VCALENDAR
VERSION:2.0
PRODID:-//Acadiana Workforce Solutions - ECPv6.0.12//NONSGML v1.0//EN
CALSCALE:GREGORIAN
METHOD:PUBLISH
X-ORIGINAL-URL:https://acadianaworkforce.org
X-WR-CALDESC:Events for Acadiana Workforce Solutions
REFRESH-INTERVAL;VALUE=DURATION:PT1H
X-Robots-Tag:noindex
X-PUBLISHED-TTL:PT1H
BEGIN:VTIMEZONE
TZID:UTC
BEGIN:STANDARD
TZOFFSETFROM:+0000
TZOFFSETTO:+0000
TZNAME:UTC
DTSTART:20230101T000000
END:STANDARD
END:VTIMEZONE
BEGIN:VEVENT
DTSTART;TZID=UTC:20230913T090000
DTEND;TZID=UTC:20230913T130000
DTSTAMP:20260421T101309
CREATED:20230905T185820Z
LAST-MODIFIED:20230905T190254Z
UID:11245-1694595600-1694610000@acadianaworkforce.org
SUMMARY:RigZone Oil & Gas Job Fair
DESCRIPTION:Rigzone will host an Oil & Gas Job Fair on Wednesday\, September 13th from 9am – 1pm at the Cajundome Convention Center. Some of the employers in attendance include: \n\n• Sparrows Group\n• Morrison Energy\n• Linear Controls\n• The Bergaila Companies\n• Taylors International Services\n• Noble Drilling\n• Cleco Corporation\n• Entech\n• Gladiator Energy\n• Seafarers International Union\n• EPS Companies\n• Danos\n• Oceaneering\n• Refined Technologies\n• Survival Systems International\n• Oil States Energy Services\n• ESS Support Services\n• Edison Chouest Offshore\n• The Louisiana Workforce Commission will also be on site.\n\n\nRegister online and bring your confirmation email with you plus copies of your Resume
URL:https://acadianaworkforce.org/event/rigzone-oil-gas-job-fair/
CATEGORIES:Job Fair
END:VEVENT
BEGIN:VEVENT
DTSTART;TZID=UTC:20230927T110000
DTEND;TZID=UTC:20230927T150000
DTSTAMP:20260421T101309
CREATED:20230809T164630Z
LAST-MODIFIED:20230809T165101Z
UID:11232-1695812400-1695826800@acadianaworkforce.org
SUMMARY:UL Lafayette Career Fair for Students & Alumni
DESCRIPTION:UL Career Fair to be held Wednesday\, September 27th from 11am to 3pm at the Cajundome Convention Center\, 444 Cajundome Blvd.\, Lafayette\, LA. Hosted by Lafayette Career Services. For more information copy and paste this link into your browser: Career Fair | Office of Career Services (louisiana.edu)
URL:https://acadianaworkforce.org/event/ul-lafayette-career-fair-for-students-alumni/
CATEGORIES:Job Fair
END:VEVENT
BEGIN:VEVENT
DTSTART;TZID=UTC:20230927T160000
DTEND;TZID=UTC:20230927T190000
DTSTAMP:20260421T101309
CREATED:20230927T190107Z
LAST-MODIFIED:20230927T190420Z
UID:11256-1695830400-1695841200@acadianaworkforce.org
SUMMARY:Manufacturing & Logistics Online Career Fair
DESCRIPTION:Hiring managers from manufacturing & logistics companies statewide will be available online for this career fair\, including SafeSource Direct in Broussard\, LA. It will be held Wednesday\, September 27 from 4pm to 7pm. \nSign up here: Manufacturing and Logistics Career Fair (Online) – September 27\, 2023 (brazenconnect.com)
URL:https://acadianaworkforce.org/event/manufacturing-logistics-online-career-fair/
CATEGORIES:Job Fair
END:VEVENT
BEGIN:VEVENT
DTSTART;TZID=UTC:20230928T090000
DTEND;TZID=UTC:20230928T150000
DTSTAMP:20260421T101309
CREATED:20230918T202606Z
LAST-MODIFIED:20230927T193730Z
UID:11251-1695891600-1695913200@acadianaworkforce.org
SUMMARY:The Wright Group Job Fair
DESCRIPTION:The Wright Group is hosting a career fair at the Crystal Rice Building\, 6428 Airport Road\, Crowley\, LA 70526 on Thursday\, September 28 from 9am to 3pm. They will be interviewing for various positions. Please bring a copy of your resume and be prepared to fill out an application. You must be able to pass a drug screen and background check. Some of the available positions include: Production Operator\, Maintenance\, Lab\, Warehouse and CDL Driver. \nFor information on job openings or to apply prior to attending the event\, clink the following link: Wright Group Careers (wenrichcareers.com)
URL:https://acadianaworkforce.org/event/the-wright-group-job-fair/
CATEGORIES:Job Fair
END:VEVENT
BEGIN:VEVENT
DTSTART;TZID=UTC:20230929T083000
DTEND;TZID=UTC:20230929T140000
DTSTAMP:20260421T101309
CREATED:20230927T190458Z
LAST-MODIFIED:20230927T190859Z
UID:11258-1695976200-1695996000@acadianaworkforce.org
SUMMARY:Greenberry Industrial Job Fair
DESCRIPTION:Industrial Career Fair will be held Friday\, September 29 from 8:30am to 2pm at SLCC Acadian Campus\, 1933 W Hutchinson Avenue\, Room 109\, Crowley\, LA . \nJobs include: structural fitters\, welders\, pipe fitters\, pipe welders\, quality control\, experienced helpers.
URL:https://acadianaworkforce.org/event/greenberry-industrial-job-fair/
CATEGORIES:Job Fair
END:VEVENT
END:VCALENDAR