BEGIN:VCALENDAR
VERSION:2.0
PRODID:-//Acadiana Workforce Solutions - ECPv6.0.12//NONSGML v1.0//EN
CALSCALE:GREGORIAN
METHOD:PUBLISH
X-WR-CALNAME:Acadiana Workforce Solutions
X-ORIGINAL-URL:https://acadianaworkforce.org
X-WR-CALDESC:Events for Acadiana Workforce Solutions
REFRESH-INTERVAL;VALUE=DURATION:PT1H
X-Robots-Tag:noindex
X-PUBLISHED-TTL:PT1H
BEGIN:VTIMEZONE
TZID:UTC
BEGIN:STANDARD
TZOFFSETFROM:+0000
TZOFFSETTO:+0000
TZNAME:UTC
DTSTART:20250101T000000
END:STANDARD
END:VTIMEZONE
BEGIN:VEVENT
DTSTART;TZID=UTC:20250115T090000
DTEND;TZID=UTC:20250115T120000
DTSTAMP:20260423T102921
CREATED:20241210T162356Z
LAST-MODIFIED:20241210T162954Z
UID:12391-1736931600-1736942400@acadianaworkforce.org
SUMMARY:Health Care Job Fair - LEDA
DESCRIPTION:A Health Care Job Fair will be held on Wednesday\, January 15 from 9am to 12noon at the Cajundome Convention Center (444 Cajundome Convention Center\, Lafayette\, LA 70506). \nOpenings in the following areas: \nRN\, LPN\, CNA\, Lab Tech\, Phlebotomist\, Transportation Providers\, Direct Service Workers\, Case Managers\, Custodian\, Housekeeping\, Food Service and more! \nCompany Registration and Information: www.lafayette.org/healthcarejobfair \nJob Seeker pre-registration: lafayettehealthcarejobfair2025.eventbrite.com \n  \n  \n 
URL:https://acadianaworkforce.org/event/health-care-job-fair-leda/
CATEGORIES:Job Fair
END:VEVENT
END:VCALENDAR