BEGIN:VCALENDAR
VERSION:2.0
PRODID:-//Acadiana Workforce Solutions - ECPv6.0.12//NONSGML v1.0//EN
CALSCALE:GREGORIAN
METHOD:PUBLISH
X-ORIGINAL-URL:https://acadianaworkforce.org
X-WR-CALDESC:Events for Acadiana Workforce Solutions
REFRESH-INTERVAL;VALUE=DURATION:PT1H
X-Robots-Tag:noindex
X-PUBLISHED-TTL:PT1H
BEGIN:VTIMEZONE
TZID:UTC
BEGIN:STANDARD
TZOFFSETFROM:+0000
TZOFFSETTO:+0000
TZNAME:UTC
DTSTART:20250101T000000
END:STANDARD
END:VTIMEZONE
BEGIN:VEVENT
DTSTART;TZID=UTC:20250305T110000
DTEND;TZID=UTC:20250305T120000
DTSTAMP:20260419T131256
CREATED:20250305T143622Z
LAST-MODIFIED:20250305T144040Z
UID:12614-1741172400-1741176000@acadianaworkforce.org
SUMMARY:One-Stop Committee Meeting
DESCRIPTION:On Wednesday\, March 5 at 11am the One-Stop Delivery System for Acadiana Workforce Solutions Area #40 will hold a meeting at Lafayette Public Library – Main Branch\, 301 W Congress ST\, Lafayette\, LA 70501. \nFor more information contact Rita Patterson at rpatterson@wib40.org.
URL:https://acadianaworkforce.org/event/one-stop-committee-meeting-2/
CATEGORIES:One-Stop Committee Meeting
END:VEVENT
BEGIN:VEVENT
DTSTART;TZID=UTC:20250318T090000
DTEND;TZID=UTC:20250318T120000
DTSTAMP:20260419T131256
CREATED:20250313T182803Z
LAST-MODIFIED:20250313T183155Z
UID:12663-1742288400-1742299200@acadianaworkforce.org
SUMMARY:SoLAcc Career Fair - Abbeville Campus
DESCRIPTION:A career fair will be held on Tuesday\, March 18 from 9am to 12noon at SoLAcc Abbeville Campus(1115 Clover Street\, Abbeville\, LA).
URL:https://acadianaworkforce.org/event/solacc-career-fair-abbeville-campus/
CATEGORIES:Job Fair
END:VEVENT
BEGIN:VEVENT
DTSTART;TZID=UTC:20250319T090000
DTEND;TZID=UTC:20250319T110000
DTSTAMP:20260419T131256
CREATED:20250306T155929Z
LAST-MODIFIED:20250311T184451Z
UID:12616-1742374800-1742382000@acadianaworkforce.org
SUMMARY:Acadiana Workforce Solutions Board #40
DESCRIPTION:On Wednesday\, March 19th at 9am\, Acadiana Workforce Solutions Board #40 will hold its 1st Quarterly Meeting at Acadiana Workforce Solutions Board #40 Office\, 1638 Creswell Lane Extension; Ste. 1\, Opelousas\, LA 70570. \nFor more information\, please email Rita Patterson at rpatterson@wib40.org .
URL:https://acadianaworkforce.org/event/acadiana-workforce-solutions-board-40-3/
CATEGORIES:Board Meeting
END:VEVENT
BEGIN:VEVENT
DTSTART;TZID=UTC:20250324T093000
DTEND;TZID=UTC:20250324T120000
DTSTAMP:20260419T131256
CREATED:20250313T183238Z
LAST-MODIFIED:20250313T183516Z
UID:12665-1742808600-1742817600@acadianaworkforce.org
SUMMARY:SoLAcc Career Fair - Opelousas Campus
DESCRIPTION:A career fair will be held on Monday\, March 24 from 9:30am to 12noon at SoLAcc Opelousas Campus(332 East South Street\, Opelousas\, LA).
URL:https://acadianaworkforce.org/event/solacc-career-fair-opelousas-campus/
CATEGORIES:Job Fair
END:VEVENT
END:VCALENDAR